BEGIN:VCALENDAR
VERSION:2.0
PRODID:-// - ECPv6.15.20//NONSGML v1.0//EN
CALSCALE:GREGORIAN
METHOD:PUBLISH
X-ORIGINAL-URL:https://thecozybooknook.com
X-WR-CALDESC:Events for 
REFRESH-INTERVAL;VALUE=DURATION:PT1H
X-Robots-Tag:noindex
X-PUBLISHED-TTL:PT1H
BEGIN:VTIMEZONE
TZID:America/New_York
BEGIN:DAYLIGHT
TZOFFSETFROM:-0500
TZOFFSETTO:-0400
TZNAME:EDT
DTSTART:20250309T070000
END:DAYLIGHT
BEGIN:STANDARD
TZOFFSETFROM:-0400
TZOFFSETTO:-0500
TZNAME:EST
DTSTART:20251102T060000
END:STANDARD
BEGIN:DAYLIGHT
TZOFFSETFROM:-0500
TZOFFSETTO:-0400
TZNAME:EDT
DTSTART:20260308T070000
END:DAYLIGHT
BEGIN:STANDARD
TZOFFSETFROM:-0400
TZOFFSETTO:-0500
TZNAME:EST
DTSTART:20261101T060000
END:STANDARD
BEGIN:DAYLIGHT
TZOFFSETFROM:-0500
TZOFFSETTO:-0400
TZNAME:EDT
DTSTART:20270314T070000
END:DAYLIGHT
BEGIN:STANDARD
TZOFFSETFROM:-0400
TZOFFSETTO:-0500
TZNAME:EST
DTSTART:20271107T060000
END:STANDARD
END:VTIMEZONE
BEGIN:VEVENT
DTSTART;TZID=America/New_York:20260206T180000
DTEND;TZID=America/New_York:20260206T200000
DTSTAMP:20260420T041424
CREATED:20260108T162052Z
LAST-MODIFIED:20260108T162052Z
UID:5757-1770400800-1770408000@thecozybooknook.com
SUMMARY:February Traditional Book Club
DESCRIPTION:Join us Friday February 6\, 2026 as we discuss “I\, Medusa” by Ayana Gray!\n\nGet Your Copy Today and Join the Conversation!https://thecozybooknookdayton.square.site/…/FG333VYNZKD…\n\nNEW YORK TIMES BESTSELLER • From New York Times bestselling author Ayana Gray comes a “captivating villain origin story” (People Book of the Week)\, reimagining one of the most iconic monsters in Greek mythology as a provocative and powerful young heroine.\n\nThe first edition hardcover features stunning sprayed edges\, a premium dust jacket with foil\, and a gorgeous custom-stamped case—while supplies last!\n\n“Ayana Gray brings her fresh\, dynamic storytelling to one of the most monstered\, maligned\, and misunderstood women of Greek myth\, imagining all the girls that Medusa was and could have been.”—Jennifer Saint\, bestselling author of Ariadne\n\nAN NPR BEST BOOK OF THE YEAR\n\nMeddy has spent her whole life as a footnote in someone else’s story. Out of place next to her beautiful\, immortal sisters and her parents—both gods\, albeit minor ones—she dreams of leaving her family’s island for a life of adventure. So when she catches the eye of the goddess Athena\, who invites her to train as an esteemed priestess in her temple\, Meddy leaps at the chance to see the world beyond her home.\n\nIn the colorful market streets of Athens and the clandestine chambers of the temple\, Meddy flourishes in her role as Athena’s favored acolyte\, getting her first tastes of purpose and power. But when she is noticed by another Olympian\, Poseidon\, the course of Meddy’s promising future is suddenly and irrevocably altered.\n\nWhen her locs are transformed into snakes as punishment for a crime she did not commit\, Medusa must embrace a new identity—not as a victim\, but as a vigilante—and with it\, the chance to write her own story as mortal\, martyr\, and myth.\n\nExploding with rage\, heartbreak\, and love\, I\, Medusa portrays a young woman caught in the crosscurrents between her heart’s deepest desires and the cruel\, careless games the Olympian gods play.
URL:https://thecozybooknook.com/event/february-traditional-book-club/
LOCATION:The Cozy Book Nook\, 1400 East 3rd St.\, Dayton\, OH\, 45403\, United States
ATTACH;FMTTYPE=image/png:https://thecozybooknook.com/wp-content/uploads/2026/01/02-February-Book-Club.png
END:VEVENT
BEGIN:VEVENT
DTSTART;TZID=America/New_York:20260207T120000
DTEND;TZID=America/New_York:20260207T160000
DTSTAMP:20260420T041424
CREATED:20260104T013350Z
LAST-MODIFIED:20260104T013350Z
UID:5715-1770465600-1770480000@thecozybooknook.com
SUMMARY:Galentine's Book Bedazzling Brunch!
DESCRIPTION:Get ready to brunch\, bedazzle\, and bond with your besties at the Galantines Book Bedazzle Brunch—where books and bling collide!\nWelcome to the Galentine’s Book Bedazzle Brunch at The Cozy Book Nook! Join us on February 7\, 2026 for a delightful gathering of book lovers. Let’s celebrate friendship\, books\, and creativity together. Bring your favorite book to bedazzle and share with your gal pals! Or pick up a book in store before the event starts. Don’t miss out on the fun and laughter. See you there!\n\nWe will have 2 groups one at 12:00pm one at 2:30pm\nCharcuterie and one mimosa per participant will be provided. \nGet your tickets here:Group 1 12pm https://www.eventbrite.com/…/galentines-book-bedazzle…\nGroup 2 2:30pm https://www.eventbrite.com/…/galentines-book-bedazzle…
URL:https://thecozybooknook.com/event/galentines-book-bedazzling-brunch/
LOCATION:The Cozy Book Nook\, 1400 East 3rd St.\, Dayton\, OH\, 45403\, United States
ATTACH;FMTTYPE=image/png:https://thecozybooknook.com/wp-content/uploads/2026/01/Galentines.png
END:VEVENT
BEGIN:VEVENT
DTSTART;TZID=America/New_York:20260210T180000
DTEND;TZID=America/New_York:20260210T200000
DTSTAMP:20260420T041424
CREATED:20260126T015744Z
LAST-MODIFIED:20260126T015744Z
UID:5783-1770746400-1770753600@thecozybooknook.com
SUMMARY:February Poetry Mixer!
DESCRIPTION:Join us Tuesday February 10th for our Monthly Poetry Mixer! We’ll be joined by guest poet Steven M Wuebker!\n\nFun activities will include:– Featured Poet Talk– Prompted Writing Session– Read What You Wrote Session– Open Mic/Social Time
URL:https://thecozybooknook.com/event/february-poetry-mixer/
LOCATION:The Cozy Book Nook\, 1400 East 3rd St.\, Dayton\, OH\, 45403\, United States
ATTACH;FMTTYPE=image/png:https://thecozybooknook.com/wp-content/uploads/2026/01/Steven-M-Wuebker-Poetry-Night_Banner.png
END:VEVENT
BEGIN:VEVENT
DTSTART;TZID=America/New_York:20260212T173000
DTEND;TZID=America/New_York:20260212T190000
DTSTAMP:20260420T041424
CREATED:20260126T035627Z
LAST-MODIFIED:20260126T035627Z
UID:5788-1770917400-1770922800@thecozybooknook.com
SUMMARY:Widows Among Us Book Signing
DESCRIPTION:Join us Thursday February 12th as Karen Justice\, MBA\, Karen Smith-Racicot\, CLC\, and Rebecca LaChance\, PhD share their stories and sign copies of their book\, “Widows Among Us: Stories and Insights”!
URL:https://thecozybooknook.com/event/widows-among-us-book-signing/
LOCATION:The Cozy Book Nook\, 1400 East 3rd St.\, Dayton\, OH\, 45403\, United States
ATTACH;FMTTYPE=image/png:https://thecozybooknook.com/wp-content/uploads/2026/01/Book-Signing.png
END:VEVENT
BEGIN:VEVENT
DTSTART;TZID=America/New_York:20260214T120000
DTEND;TZID=America/New_York:20260214T130000
DTSTAMP:20260420T041424
CREATED:20260126T035930Z
LAST-MODIFIED:20260126T035930Z
UID:5790-1771070400-1771074000@thecozybooknook.com
SUMMARY:Speed Dating with Romance Books!
DESCRIPTION:Speed Date around the room as each author has just a few minutes to pitch you their books!\nLooking for your next Romance Books? We’ve got you covered!\n\nSpeed Date around the room as each author has just a few minutes to pitch you their books! Pick the ones you’d like to take home with you\, and get them autographed by the authors themselves!\n\nReserve your spot by claiming the Free Ticket and receive a treat from each author! You’ll also be entered into a drawing for a Free Gift Bag from us!!\n\nGroup 1 (12:30pm-1:00pm)(9 spots available):https://www.eventbrite.com/e/1979886967216?aff=oddtdtcreator\nGroup 2 (1:00pm-1:30pm)(1 spots left):https://www.eventbrite.com/e/1979888197897?aff=oddtdtcreator
URL:https://thecozybooknook.com/event/speed-dating-with-romance-books-2/
LOCATION:The Cozy Book Nook\, 1400 East 3rd St.\, Dayton\, OH\, 45403\, United States
ATTACH;FMTTYPE=image/png:https://thecozybooknook.com/wp-content/uploads/2026/01/Speed-Dating-2026_Banner.png
END:VEVENT
BEGIN:VEVENT
DTSTART;TZID=America/New_York:20260218T180000
DTEND;TZID=America/New_York:20260218T200000
DTSTAMP:20260420T041425
CREATED:20260122T000950Z
LAST-MODIFIED:20260122T000950Z
UID:5769-1771437600-1771444800@thecozybooknook.com
SUMMARY:February Beer Crawl Book Club!
DESCRIPTION:Join us at Bock’s Family Brewing Wednesday\, February 18\, 2026 as we discuss “Project Hail Mary” by Andy Weir!\n\nGet your copy now and join the conversation and get another stamp in your “Dayton Ale Trail” passport!https://thecozybooknookdayton.square.site/…/SRYLT4VAFLP…\n\nTHE #1 NEW YORK TIMES BESTSELLER FROM THE AUTHOR OF THE MARTIAN • Soon to be a major motion picture starring Ryan Gosling\, directed by Phil Lord and Christopher Miller\, with a screenplay by Drew Goddard\n\nA lone astronaut must save the earth from disaster in this “propulsive” (Entertainment Weekly)\, cinematic thriller full of suspense\, humor\, and fascinating science.\n\nHUGO AWARD FINALIST • ONE OF THE YEAR’S BEST BOOKS: Bill Gates\, GatesNotes\, New York Public Library\, Parade\, Newsweek\, Polygon\, Shelf Awareness\, She Reads\, Kirkus Reviews\, Library Journal • New York Times Readers Pick: 100 Best Books of the 21st Century\n“An epic story of redemption\, discovery and cool speculative sci-fi.”—USA Today\n\n“If you loved The Martian\, you’ll go crazy for Weir’s latest.”—The Washington Post\n\nRyland Grace is the sole survivor on a desperate\, last-chance mission—and if he fails\, humanity and the earth itself will perish.\nExcept that right now\, he doesn’t know that. He can’t even remember his own name\, let alone the nature of his assignment or how to complete it.\n\nAll he knows is that he’s been asleep for a very\, very long time. And he’s just been awakened to find himself millions of miles from home\, with nothing but two corpses for company.\n\nHis crewmates dead\, his memories fuzzily returning\, Ryland realizes that an impossible task now confronts him. Hurtling through space on this tiny ship\, it’s up to him to puzzle out an impossible scientific mystery—and conquer an extinction-level threat to our species.\nAnd with the clock ticking down and the nearest human being light-years away\, he’s got to do it all alone.\n\nOr does he?\n\nAn irresistible interstellar adventure as only Andy Weir could deliver\, Project Hail Mary is a tale of discovery\, speculation\, and survival to rival The Martian—while taking us to places it never dreamed of going.
URL:https://thecozybooknook.com/event/february-beer-crawl-book-club/
LOCATION:The Cozy Book Nook\, 1400 East 3rd St.\, Dayton\, OH\, 45403\, United States
ATTACH;FMTTYPE=image/png:https://thecozybooknook.com/wp-content/uploads/2026/01/2026-02-February-Banner.png
END:VEVENT
BEGIN:VEVENT
DTSTART;TZID=America/New_York:20260220T180000
DTEND;TZID=America/New_York:20260220T200000
DTSTAMP:20260420T041425
CREATED:20251223T172812Z
LAST-MODIFIED:20251223T172812Z
UID:5582-1771610400-1771617600@thecozybooknook.com
SUMMARY:February Indie Book Club!
DESCRIPTION:Join us Friday\, February 20\, 2026 as we discuss three awesome Independently Published Books!\n\nGet Your Signed Copy In-Store or Online Today and Join the conversation!\n“Sins of the Fathers” by Antonio Garciahttps://thecozybooknookdayton.square.site/…/sins-of…/379\n“Falling Through the Fire” by Leah Lorehttps://thecozybooknookdayton.square.site/…/REHP2YXOO7I…\n“The Lady of the Garter” by Marisa Dillonhttps://thecozybooknookdayton.square.site/…/2ZYFBWAQCDK…
URL:https://thecozybooknook.com/event/february-indie-book-club/
LOCATION:The Cozy Book Nook\, 1400 East 3rd St.\, Dayton\, OH\, 45403\, United States
ATTACH;FMTTYPE=image/png:https://thecozybooknook.com/wp-content/uploads/2025/12/02-February-Indie-Book-Club_Banner.png
END:VEVENT
BEGIN:VEVENT
DTSTART;TZID=America/New_York:20260221T123000
DTEND;TZID=America/New_York:20260221T160000
DTSTAMP:20260420T041425
CREATED:20260126T040123Z
LAST-MODIFIED:20260126T040123Z
UID:5793-1771677000-1771689600@thecozybooknook.com
SUMMARY:Black History Month Celebration!
DESCRIPTION:Join us Saturday February 21\, 2026 as we celebrate Black History Month!\n\nWe’ll be joined by Local Authors\, who will be there to share their stories and sign copies of their books!
URL:https://thecozybooknook.com/event/black-history-month-celebration/
LOCATION:The Cozy Book Nook\, 1400 East 3rd St.\, Dayton\, OH\, 45403\, United States
ATTACH;FMTTYPE=image/png:https://thecozybooknook.com/wp-content/uploads/2026/01/Event-Banner.png
END:VEVENT
BEGIN:VEVENT
DTSTART;TZID=America/New_York:20260221T180000
DTEND;TZID=America/New_York:20260221T190000
DTSTAMP:20260420T041425
CREATED:20251229T224940Z
LAST-MODIFIED:20260121T003443Z
UID:5585-1771696800-1771700400@thecozybooknook.com
SUMMARY:The Cozies!
DESCRIPTION:It’s TIME!!! Join us Virtually as we recognize some of our Top Selling Authors and Celebrate all the New Authors that have joined our Shelves in 2025!\n\nWe’ll go Live at 6:00pm!
URL:https://thecozybooknook.com/event/the-cozies/
LOCATION:OH
ATTACH;FMTTYPE=image/png:https://thecozybooknook.com/wp-content/uploads/2025/12/The-Cozzies-2026_Banner.png
END:VEVENT
END:VCALENDAR