BEGIN:VCALENDAR
VERSION:2.0
PRODID:-// - ECPv6.15.20//NONSGML v1.0//EN
CALSCALE:GREGORIAN
METHOD:PUBLISH
X-ORIGINAL-URL:https://thecozybooknook.com
X-WR-CALDESC:Events for 
REFRESH-INTERVAL;VALUE=DURATION:PT1H
X-Robots-Tag:noindex
X-PUBLISHED-TTL:PT1H
BEGIN:VTIMEZONE
TZID:America/New_York
BEGIN:DAYLIGHT
TZOFFSETFROM:-0500
TZOFFSETTO:-0400
TZNAME:EDT
DTSTART:20250309T070000
END:DAYLIGHT
BEGIN:STANDARD
TZOFFSETFROM:-0400
TZOFFSETTO:-0500
TZNAME:EST
DTSTART:20251102T060000
END:STANDARD
BEGIN:DAYLIGHT
TZOFFSETFROM:-0500
TZOFFSETTO:-0400
TZNAME:EDT
DTSTART:20260308T070000
END:DAYLIGHT
BEGIN:STANDARD
TZOFFSETFROM:-0400
TZOFFSETTO:-0500
TZNAME:EST
DTSTART:20261101T060000
END:STANDARD
BEGIN:DAYLIGHT
TZOFFSETFROM:-0500
TZOFFSETTO:-0400
TZNAME:EDT
DTSTART:20270314T070000
END:DAYLIGHT
BEGIN:STANDARD
TZOFFSETFROM:-0400
TZOFFSETTO:-0500
TZNAME:EST
DTSTART:20271107T060000
END:STANDARD
END:VTIMEZONE
BEGIN:VEVENT
DTSTART;TZID=America/New_York:20260102T180000
DTEND;TZID=America/New_York:20260102T200000
DTSTAMP:20260420T052055
CREATED:20251223T172436Z
LAST-MODIFIED:20251223T172848Z
UID:5578-1767376800-1767384000@thecozybooknook.com
SUMMARY:January Traditional Book Club!
DESCRIPTION:Join us Friday\, January 2\, 2026 for our 1st Book Club of the New Year as we discuss “The Last Letter” by Rebecca Yarros!\n\nGet Your Copy Today and Join the Conversation!Hardcover special edition : https://thecozybooknookdayton.square.site/…/OHWPREAYDSM…\nPaperback: https://thecozybooknookdayton.square.site/…/ALCFKKN6NOX…
URL:https://thecozybooknook.com/event/january-traditional-book-club/
LOCATION:The Cozy Book Nook\, 1400 East 3rd St.\, Dayton\, OH\, 45403\, United States
ATTACH;FMTTYPE=image/png:https://thecozybooknook.com/wp-content/uploads/2025/12/01-TraditionalBookClub_January2026.png
END:VEVENT
BEGIN:VEVENT
DTSTART;TZID=America/New_York:20260110T130000
DTEND;TZID=America/New_York:20260110T153000
DTSTAMP:20260420T052055
CREATED:20251231T193346Z
LAST-MODIFIED:20251231T193346Z
UID:5616-1768050000-1768059000@thecozybooknook.com
SUMMARY:Scott Peterson Book Signing!
DESCRIPTION:Join us as Twin Bills “Best Fiction Book” 2025 Winner author Scott Peterson stops by to share his writing journey and sign copies of his Award Winning book\, “A Month of Game Days”!
URL:https://thecozybooknook.com/event/scott-peterson-book-signing/
LOCATION:The Cozy Book Nook\, 1400 East 3rd St.\, Dayton\, OH\, 45403\, United States
ATTACH;FMTTYPE=image/png:https://thecozybooknook.com/wp-content/uploads/2025/12/Scott-Peterson-Book-Signing-Banner.png
END:VEVENT
BEGIN:VEVENT
DTSTART;TZID=America/New_York:20260114T180000
DTEND;TZID=America/New_York:20260114T200000
DTSTAMP:20260420T052055
CREATED:20251223T172633Z
LAST-MODIFIED:20251223T172633Z
UID:5580-1768413600-1768420800@thecozybooknook.com
SUMMARY:January Beer Crawl Book Club!
DESCRIPTION:Join us Wednesday January 14th from 6pm-8pm as we discuss “Dungeon Crawler Carl” by Matt Dinniman over some brews and getting our Dayton Ale Trail Passport stamped!\n\nGet your Copy of the Book Today and join the conversation!https://thecozybooknookdayton.square.site/…/QOXARJ2EM2G…\n\nNEW YORK TIMES BESTSELLER • The apocalypse will be televised! Welcome to the first book in the wildly popular and addictive Dungeon Crawler Carl series—now with bonus material exclusive to this print edition.\nYou know what’s worse than breaking up with your girlfriend? Being stuck with her prize-winning show cat. And you know what’s worse than that? An alien invasion\, the destruction of all man-made structures on Earth\, and the systematic exploitation of all the survivors for a sadistic intergalactic game show. That’s what.\nJoin Coast Guard vet Carl and his ex-girlfriend’s cat\, Princess Donut\, as they try to survive the end of the world—or just get to the next level—in a video game–like\, trap-filled fantasy dungeon. A dungeon that’s actually the set of a reality television show with countless viewers across the galaxy. Exploding goblins. Magical potions. Deadly\, drug-dealing llamas. This ain’t your ordinary game show.\nWelcome\, Crawler. Welcome to the Dungeon. Survival is optional. Keeping the viewers entertained is not.
URL:https://thecozybooknook.com/event/january-beer-crawl-book-club/
LOCATION:OH
ATTACH;FMTTYPE=image/png:https://thecozybooknook.com/wp-content/uploads/2025/12/2025-01-January-Banner.png
END:VEVENT
BEGIN:VEVENT
DTSTART;TZID=America/New_York:20260131T120000
DTEND;TZID=America/New_York:20260131T160000
DTSTAMP:20260420T052055
CREATED:20260104T013617Z
LAST-MODIFIED:20260126T015447Z
UID:5718-1769860800-1769875200@thecozybooknook.com
SUMMARY:Vendor Village at the Nook!
DESCRIPTION:Join us Saturday January 24\, 2025 for our First Vendor Village Event!\n\nWe’re turning the 2nd Floor of the Bookstore into a Vendor Village\, full of Crafts and Goods from local Vendors!\n\nAnd of course\, shop The Cozy Book Nook that will be Open on the 1st Floor!
URL:https://thecozybooknook.com/event/vendor-village-at-the-nook/
LOCATION:The Cozy Book Nook\, 1400 East 3rd St.\, Dayton\, OH\, 45403\, United States
ATTACH;FMTTYPE=image/png:https://thecozybooknook.com/wp-content/uploads/2026/01/1-24-25_Banner.png
END:VEVENT
END:VCALENDAR