BEGIN:VCALENDAR
VERSION:2.0
PRODID:-// - ECPv6.15.20//NONSGML v1.0//EN
CALSCALE:GREGORIAN
METHOD:PUBLISH
X-ORIGINAL-URL:https://thecozybooknook.com
X-WR-CALDESC:Events for 
REFRESH-INTERVAL;VALUE=DURATION:PT1H
X-Robots-Tag:noindex
X-PUBLISHED-TTL:PT1H
BEGIN:VTIMEZONE
TZID:America/New_York
BEGIN:DAYLIGHT
TZOFFSETFROM:-0500
TZOFFSETTO:-0400
TZNAME:EDT
DTSTART:20250309T070000
END:DAYLIGHT
BEGIN:STANDARD
TZOFFSETFROM:-0400
TZOFFSETTO:-0500
TZNAME:EST
DTSTART:20251102T060000
END:STANDARD
BEGIN:DAYLIGHT
TZOFFSETFROM:-0500
TZOFFSETTO:-0400
TZNAME:EDT
DTSTART:20260308T070000
END:DAYLIGHT
BEGIN:STANDARD
TZOFFSETFROM:-0400
TZOFFSETTO:-0500
TZNAME:EST
DTSTART:20261101T060000
END:STANDARD
BEGIN:DAYLIGHT
TZOFFSETFROM:-0500
TZOFFSETTO:-0400
TZNAME:EDT
DTSTART:20270314T070000
END:DAYLIGHT
BEGIN:STANDARD
TZOFFSETFROM:-0400
TZOFFSETTO:-0500
TZNAME:EST
DTSTART:20271107T060000
END:STANDARD
END:VTIMEZONE
BEGIN:VEVENT
DTSTART;TZID=America/New_York:20261026T220000
DTEND;TZID=America/New_York:20261027T023000
DTSTAMP:20260420T191631
CREATED:20260319T162645Z
LAST-MODIFIED:20260319T162645Z
UID:5915-1793052000-1793068200@thecozybooknook.com
SUMMARY:ACOTAR 6 Midnight Release Party!
DESCRIPTION:It’s time to return to Prythian and get your hands on the next installment in the ACOTAR series. \n  \nFor entry to our midnight release party\, you must pre-order your book through The Cozy Book Nook either in store or at this link https://thecozybooknookdayton.square.site/product/preorder-a-court-of-thorns-and-roses-book-6/OGAJEWFKDL5KALQWJHVZASRA?cp=true&sa=false&sbp=false&q=false&category_id=EVPJ7KDW3SH75K3FG3XBB5DA \nDeadline to preorder is 9/1/26 to ensure we can get the books in on time. \nEvent will include refreshments and some ACOTAR activities. More details to come.
URL:https://thecozybooknook.com/event/acotar-6-midnight-release-party/
LOCATION:The Cozy Book Nook\, 1400 East 3rd St.\, Dayton\, OH\, 45403\, United States
ATTACH;FMTTYPE=image/png:https://thecozybooknook.com/wp-content/uploads/2026/03/ACOTAR-6-Midnight-Release-Party.png
END:VEVENT
END:VCALENDAR