BEGIN:VCALENDAR
VERSION:2.0
PRODID:-// - ECPv6.15.20//NONSGML v1.0//EN
CALSCALE:GREGORIAN
METHOD:PUBLISH
X-ORIGINAL-URL:https://thecozybooknook.com
X-WR-CALDESC:Events for 
REFRESH-INTERVAL;VALUE=DURATION:PT1H
X-Robots-Tag:noindex
X-PUBLISHED-TTL:PT1H
BEGIN:VTIMEZONE
TZID:America/New_York
BEGIN:DAYLIGHT
TZOFFSETFROM:-0500
TZOFFSETTO:-0400
TZNAME:EDT
DTSTART:20250309T070000
END:DAYLIGHT
BEGIN:STANDARD
TZOFFSETFROM:-0400
TZOFFSETTO:-0500
TZNAME:EST
DTSTART:20251102T060000
END:STANDARD
BEGIN:DAYLIGHT
TZOFFSETFROM:-0500
TZOFFSETTO:-0400
TZNAME:EDT
DTSTART:20260308T070000
END:DAYLIGHT
BEGIN:STANDARD
TZOFFSETFROM:-0400
TZOFFSETTO:-0500
TZNAME:EST
DTSTART:20261101T060000
END:STANDARD
BEGIN:DAYLIGHT
TZOFFSETFROM:-0500
TZOFFSETTO:-0400
TZNAME:EDT
DTSTART:20270314T070000
END:DAYLIGHT
BEGIN:STANDARD
TZOFFSETFROM:-0400
TZOFFSETTO:-0500
TZNAME:EST
DTSTART:20271107T060000
END:STANDARD
END:VTIMEZONE
BEGIN:VEVENT
DTSTART;TZID=America/New_York:20260326T160000
DTEND;TZID=America/New_York:20260326T190000
DTSTAMP:20260420T074541
CREATED:20260226T165500Z
LAST-MODIFIED:20260226T165500Z
UID:5867-1774540800-1774551600@thecozybooknook.com
SUMMARY:Books & Brews: A Boozy Book Fair for Grown-Ups
DESCRIPTION: Books & Brews: A Boozy Book Fair for Grown-UpsRemember the pure joy of school book fairs — the posters\, the shiny new paperbacks\, the erasers you definitely didn’t need? Now imagine all that childhood magic… but with craft beer.\nJoin us at Bock Family Brewing for Books & Brews: A Boozy Book Fair for Grown-Ups\, a one‑day celebration of stories\, nostalgia\, and good drinks. Whether you’re a casual reader\, a die‑hard bookworm\, or just here for the pints\, this is your new favorite grown‑up field trip.\nWhat to Expect Craft Beer made by our Friends at Bock Family BrewingSip your way through the stacks with your favorite brews\, and grab some yummy German cuisine.\n Curated Book SelectionBrowse a selection of books from The Cozy Book Nook your favorite local independent bookstore. Fiction\, fantasy\, romance\, nonfiction — there’s something for every kind of reader.\n Blind Date with a BookPick a mystery book wrapped with just a few intriguing clues. Who knows what you’ll get.\n Bookish MerchStickers\, bookmarks\, tote bags\, and other literary goodies to satisfy your inner kid.\nWho Should ComeReaders who love beer\nBeer lovers who might read if bribed\nAdults who miss the Scholastic Book Fair energy\nAnyone looking for a fun\, quirky weeknight outing\nEvent Details Date: 3/26/26 Time: 4-7pm Location: Bock Family Brewing 8150 Washington Village Dr\, Dayton\, OH 45458 Admission: Free\nWhy You’ll Love ItIt’s the perfect blend of cozy book‑nerd culture and brewery hangout vibes. Come discover new reads\, support local businesses\, and enjoy a pint (or two) while you browse.
URL:https://thecozybooknook.com/event/books-brews-a-boozy-book-fair-for-grown-ups/
LOCATION:Bock’s Family Brewing\, 8150 Washington Village Dr\, Dayton\, OH\, 45458\, United States
ATTACH;FMTTYPE=image/png:https://thecozybooknook.com/wp-content/uploads/2026/02/Bocks-Book-Fair_Banner.png
END:VEVENT
BEGIN:VEVENT
DTSTART;TZID=America/New_York:20260403T180000
DTEND;TZID=America/New_York:20260403T200000
DTSTAMP:20260420T074541
CREATED:20260312T001644Z
LAST-MODIFIED:20260312T001644Z
UID:5899-1775239200-1775246400@thecozybooknook.com
SUMMARY:April Traditional Book Club!
DESCRIPTION:Join us Friday April 3rd 6:00pm-8:00pm as we discuss “The Elsewhere Express” by Samantha Sotto Yambao!\n\nGet your Copy Now and Join the Conversation!https://thecozybooknookdayton.square.site/…/HB2ENPMPX44…\n\nYou can’t buy a ticket for the Elsewhere Express. Appearing only to those whose lives are adrift\, it’s a magical train seeming to carry very rare and special cargo: a sense of purpose\, peace\, and belonging.\nRaya is one of those lost souls. She had dreamed of being a songwriter\, but when her brother died\, she gave up on her dream and started living his instead.\nOne day on the subway\, as her thoughts wander\, she’s swept off to the Elsewhere Express. There she meets Q\, an intriguing artist who\, like her\, has lost his place in the world.\nTogether they find a train full of wonders\, from a boarding car that’s also a meadow to a dining car where passengers can picnic on lily pads to a bar where jellyfish and whales swim through pink clouds.\nOver the course of their long\, strange night on the train\, they also discover that it harbors secrets—and danger: A mysterious stranger has stowed away and brought with him a dark\, malignant magic that threatens to destroy the train.\nBut in investigating the stowaway’s identity\, Raya also finds herself drawing closer to the ultimate question: What is her life’s true purpose—and is it a destination the Elsewhere Express can take her to?
URL:https://thecozybooknook.com/event/april-traditional-book-club/
LOCATION:The Cozy Book Nook\, 1400 East 3rd St.\, Dayton\, OH\, 45403\, United States
ATTACH;FMTTYPE=image/png:https://thecozybooknook.com/wp-content/uploads/2026/03/04-April-Book-Club.png
END:VEVENT
BEGIN:VEVENT
DTSTART;TZID=America/New_York:20260404T120000
DTEND;TZID=America/New_York:20260404T160000
DTSTAMP:20260420T074541
CREATED:20260328T165258Z
LAST-MODIFIED:20260328T165258Z
UID:5933-1775304000-1775318400@thecozybooknook.com
SUMMARY:Vendor Village at the Nook!
DESCRIPTION:Join us Saturday April 4th as we welcome Vendors to our Bookstore to share their wares!\n\nCome check out our Visiting Vendors!Damsel in DefenseLearn To Fly PhotographyThe Juniper Corner\n\nand more are being added!
URL:https://thecozybooknook.com/event/vendor-village-at-the-nook-4/
LOCATION:The Cozy Book Nook\, 1400 East 3rd St.\, Dayton\, OH\, 45403\, United States
ATTACH;FMTTYPE=image/png:https://thecozybooknook.com/wp-content/uploads/2026/03/4-4-26_Banner.png
END:VEVENT
BEGIN:VEVENT
DTSTART;TZID=America/New_York:20260408T173000
DTEND;TZID=America/New_York:20260408T193000
DTSTAMP:20260420T074541
CREATED:20260216T200918Z
LAST-MODIFIED:20260216T200918Z
UID:5853-1775669400-1775676600@thecozybooknook.com
SUMMARY:Marisa Churchill (Top Chef Competitor\, Author) Book Signing!
DESCRIPTION:Join us Wednesday April 8\, 2026 as “Top Chef” Competitor and author\, Marisa Churchill signs copy of her book\, “Secrets\, Spells\, and Chocolate”! \nPre-order your copy to get Signed at the Event Today!\nhttps://square.link/u/oAlN2CQm \nAbout the Author:\nMarisa Churchill spent a decade of her career working in some of San Francisco’s most notable restaurants (The Slanted Door\, Rubicon\, LuLu). She was called “one of the city’s top pastry chefs\,” by Michael Bauer\, former head food critic of the San Francisco Chronicle. She was a competitor on Top Chef season two\, and competed multiple times on Food Network Challenge\, where she took first or second place in every challenge. She is the author of two cookbooks Sweet & Skinny and My Sweet & Skinny Life. Her recipes have appeared in numerous culinary publications\, from Food & Wine to Epicurious. Her recipes have also been featured in Oprah.com\, Women’s Health\, and on numerous TV shows: The Talk\, Access Hollywood\, Hallmark’s Home & Family\, and more. Marisa currently writes for Eater and does recipe development for Delish. She’s a member of SCBWI (Society of Children’s Book Writers and Illustrators). When she isn’t cooking\, she’s usually busy whipping up fun new plots. \nAbout the Book:\nSylvie Jones has been dreaming of attending her mom’s alma mater\, Brindille School of Culinary Arts and Magic\, since she was old enough to reach the stove. Unfortunately\, her last name has a horrible stain on it\, something that could destroy her dream. So when Sylvie is given the chance to prove her skills and put an end to the rumors that her mother cheated her way to victory at the most prestigious magical cooking competition\, The Golden Whisk\, she takes it. \nBut the opportunity may not be all that it’s cracked up to be. If Sylvie truly wants to make her own mark and earn a place at Brindille\, she needs to uncover the truth about what happened all those years ago. But some will go to great lengths to ensure Sylvie fails\, and she soon finds herself tangled in a web of deceit. \nWith the unlikely help of frenemy Georgia Shaw and rising-star student Flora Jackson\, Sylvie must find a way to get to The Golden Whisk All-Stars competition and uncover the past before time runs out. Will she be able to redeem her family’s name and save her future\, or will it all end in burned butter and broken dreams?
URL:https://thecozybooknook.com/event/marisa-churchill-top-chef-competitor-author-book-signing/
LOCATION:The Cozy Book Nook\, 1400 East 3rd St.\, Dayton\, OH\, 45403\, United States
ATTACH;FMTTYPE=image/png:https://thecozybooknook.com/wp-content/uploads/2026/02/Book-Signing_Banner.png
END:VEVENT
BEGIN:VEVENT
DTSTART;TZID=America/New_York:20260411T120000
DTEND;TZID=America/New_York:20260411T160000
DTSTAMP:20260420T074541
CREATED:20260328T135728Z
LAST-MODIFIED:20260328T135728Z
UID:5926-1775908800-1775923200@thecozybooknook.com
SUMMARY:National Poetry Month Celebration!
DESCRIPTION:Come to our poetry showcase where we will have all our indie poetry\nbooks on display\, and Six amazing indie poetry authors will be doing a\nsigning of their collections. \nGrab an envelope while you’re here\, put a poem inside\, and take it to the\npoetry mixer on April 14th for a chance to win a free poetry collection! \nBanner Graphics done by Brianna Kilcrease!
URL:https://thecozybooknook.com/event/national-poetry-month-celebration/
LOCATION:The Cozy Book Nook\, 1400 East 3rd St.\, Dayton\, OH\, 45403\, United States
ATTACH;FMTTYPE=image/png:https://thecozybooknook.com/wp-content/uploads/2026/03/Poetry-Day-Event_Banner.png
END:VEVENT
BEGIN:VEVENT
DTSTART;TZID=America/New_York:20260414T180000
DTEND;TZID=America/New_York:20260414T200000
DTSTAMP:20260420T074541
CREATED:20260323T180240Z
LAST-MODIFIED:20260323T180240Z
UID:5922-1776189600-1776196800@thecozybooknook.com
SUMMARY:Poetry at the Nook Mixer!
DESCRIPTION:Join us for our Monthly Poetry Mixer featuring guest poet\, Brianna Kilcrease! \nActivities will include:\n– Featured Poet Talk\n-Poem Exchange\n– Open Mic/ Social Time
URL:https://thecozybooknook.com/event/poetry-at-the-nook-mixer/
LOCATION:The Cozy Book Nook\, 1400 East 3rd St.\, Dayton\, OH\, 45403\, United States
ATTACH;FMTTYPE=image/png:https://thecozybooknook.com/wp-content/uploads/2026/03/Brianna-Kilcrease_Banner.png
END:VEVENT
BEGIN:VEVENT
DTSTART;TZID=America/New_York:20260415T180000
DTEND;TZID=America/New_York:20260415T200000
DTSTAMP:20260420T074541
CREATED:20260319T161511Z
LAST-MODIFIED:20260319T161605Z
UID:5909-1776276000-1776283200@thecozybooknook.com
SUMMARY:April Beer Crawl Book Club!
DESCRIPTION:Join us Wednesday April 15th as we discuss “How to Survive a Horror Story” by Mallory Arnold!\n\nGet Your Copy of the Book In-Store or Online Today and Join the Conversation!https://thecozybooknookdayton.square.site/…/7XW6QGR22NF…\n\nSeven authors enter the manorCan they survive the story within?When legendary horror author Mortimer Queen passes\, a group of writers find themselves invited to his last will and testament reading expecting a piece of his massive fortune. Each have their own unique connection to the literary icon\, some known\, some soon to be discovered\, and they’ve been waiting for their chance to step into the author’s shoes for some time.Instead\, they arrive at his grand manor and are invited to play a game. The rules are simple\, solve the riddle and progress to the next room. If they don’t\, the manor will take one of them for itself.You see\, the Queen estate was built on the bones of Mortimer’s family\, and like any true horror story\, the house is still very\, very hungry.With the clever\, locked-room thrills of Everyone in My Family Has Killed Someone with the ghostly horror of The Fall of the House of Usher\, How to Survive a Horror Story is a bright\, biting\, thrill-ride that begs us to contemplate how the best horror stories come to be.
URL:https://thecozybooknook.com/event/april-beer-crawl-book-club/
LOCATION:OH
ATTACH;FMTTYPE=image/png:https://thecozybooknook.com/wp-content/uploads/2026/03/April-Beer-Crawl-Book-Club.png
END:VEVENT
BEGIN:VEVENT
DTSTART;TZID=America/New_York:20260416T173000
DTEND;TZID=America/New_York:20260416T200000
DTSTAMP:20260420T074541
CREATED:20260328T235650Z
LAST-MODIFIED:20260328T235650Z
UID:5936-1776360600-1776369600@thecozybooknook.com
SUMMARY:Dungeons and Dragons Game Night!
DESCRIPTION:Are you interested in DnD? Maybe? Not Sure?\n\nWe’re starting a monthly 1-Shot Game on Thursday April 16th!\n\nThis game will be available to both new and experienced players\, and if anyone is unsure and would like to spectate that works too.\n\nAnyone interested can get more information and sign up sheet by following the link below:\nhttps://docs.google.com/forms/d/e/1FAIpQLSfCpdEF__aXpqhpL2_eXNgR6yOt3gQNiTdY9GUObBrz7KakFg/viewform
URL:https://thecozybooknook.com/event/dungeons-and-dragons-game-night/
LOCATION:The Cozy Book Nook\, 1400 East 3rd St.\, Dayton\, OH\, 45403\, United States
ATTACH;FMTTYPE=image/png:https://thecozybooknook.com/wp-content/uploads/2026/03/D-and-D_Banner.png
END:VEVENT
BEGIN:VEVENT
DTSTART;TZID=America/New_York:20260417T180000
DTEND;TZID=America/New_York:20260417T200000
DTSTAMP:20260420T074541
CREATED:20260406T003605Z
LAST-MODIFIED:20260406T003605Z
UID:5954-1776448800-1776456000@thecozybooknook.com
SUMMARY:April Indie Book Club!
DESCRIPTION:Join us Friday April 17th as we discuss 3 More Amazing Independently Published Books!\n\nGet your Signed Copies In-Store or Online Today!\nhttps://thecozybooknookdayton.square.site/shop/april-2026-indie-book-club/L2IX3BQWRZ64IZHJBTJLRHZY
URL:https://thecozybooknook.com/event/april-indie-book-club/
LOCATION:The Cozy Book Nook\, 1400 East 3rd St.\, Dayton\, OH\, 45403\, United States
ATTACH;FMTTYPE=image/png:https://thecozybooknook.com/wp-content/uploads/2026/04/04-Indie-Book-Club.png
END:VEVENT
BEGIN:VEVENT
DTSTART;TZID=America/New_York:20260418T120000
DTEND;TZID=America/New_York:20260418T160000
DTSTAMP:20260420T074541
CREATED:20260308T220333Z
LAST-MODIFIED:20260308T220333Z
UID:5885-1776513600-1776528000@thecozybooknook.com
SUMMARY:Book Glow-Up Workshop
DESCRIPTION:Step into a world where stories shimmer and book covers sparkle like enchanted treasures. At our Book Glow-Up Workshop\, imagination takes flight as you transform an ordinary book into a glittering masterpiece fit for a fairy tale library. With twinkling gems\, magical colors\, and whimsical embellishments\, you’ll craft a cover that feels plucked from a storybook realm. Whether you’re a dreamer\, a doodler\, or a full‑fledged crafting wizard\, this enchanting workshop invites you to play\, create\, and let your inner sparkle shine. Leave with a book that doesn’t just tell a story—it glows with one.\n\nWe’re back by popular demand with more bedazzling. This time it’s open to any and all adults and teens \nThe ticket price includes everything you need to make your book sparkle and shine. You will be able to take the bedazzle kit home with you to complete any work you couldn’t during the 2-hour event. Bring your favorite book to bedazzle or pick up a book in store before the event starts.\n\nCoffee\, tea\, and water will be provided.\n\nYou will also receive $5 in store credit to be used in store on the day of the event.\n\nDon’t miss out on the fun and laughter. See you there!\n\nHere’s the links to buy tickets…Group 1 is 12pm-2pm: https://thecozybooknookdayton.square.site/…/GM7EY7CNRVW…\n\n\nGroup 2 is 2:30pm-4:30pm: https://thecozybooknookdayton.square.site/…/5JMAIWCEQ7G…\n\nTickets are non-refundable
URL:https://thecozybooknook.com/event/book-glow-up-workshop/
LOCATION:The Cozy Book Nook\, 1400 East 3rd St.\, Dayton\, OH\, 45403\, United States
ATTACH;FMTTYPE=image/png:https://thecozybooknook.com/wp-content/uploads/2026/03/Book-Glow-Up-Workshop.png
END:VEVENT
BEGIN:VEVENT
DTSTART;TZID=America/New_York:20260425T120000
DTEND;TZID=America/New_York:20260426T160000
DTSTAMP:20260420T074541
CREATED:20260323T150340Z
LAST-MODIFIED:20260323T150340Z
UID:5919-1777118400-1777219200@thecozybooknook.com
SUMMARY:Independent Bookstore Day Weekend 2026
DESCRIPTION:This year we’re celebration on both Saturday and Sunday! Come join us as well as bookstores Nationwide to celebrate the community and connection that independent bookstores bring us. \nWe’ll be open 12p-4p both Saturday and Sunday and will have the following events and maybe more! \nSaturday and Sunday – participate in the Dayton area Indie Bookstore Crawl by stopping in to get your stamp (more details to come) \nGolden ticket- Hidden somewhere in our store will be a golden ticket from Libro.fm find it and get a free audio book per month for a year! \nInternal raffle-make a purchase and be entered to win one of several raffle baskets 🙂 \nSaturday 4/25 12:30-2pm local author Jennifer Vice will be having a book launch and signing for Memory’s Lament book 2 of The Immortal Sonata Series \nSunday 4/26 12:30-2pm local author and artist Britt Nichole will be signing copies of her newly released debut novel Gracie. Britt is also an accomplished photographer and will also be having an art gallery on display. \nSunday 4/26 2:30-4pm local author Aliya DalRae will be signing copies of her new release Murder on the Rocks a Fallen Cross Mystery. \nCan’t wait to see you all there!
URL:https://thecozybooknook.com/event/independent-bookstore-day-weekend-2026/
LOCATION:The Cozy Book Nook\, 1400 East 3rd St.\, Dayton\, OH\, 45403\, United States
ATTACH;FMTTYPE=image/png:https://thecozybooknook.com/wp-content/uploads/2026/03/Indie-Day-Book-Crawl.png
END:VEVENT
BEGIN:VEVENT
DTSTART;TZID=America/New_York:20260502T120000
DTEND;TZID=America/New_York:20260502T160000
DTSTAMP:20260420T074541
CREATED:20260329T144255Z
LAST-MODIFIED:20260329T144255Z
UID:5939-1777723200-1777737600@thecozybooknook.com
SUMMARY:Sci-Fi Day with Joshua Dalzelle!
DESCRIPTION:Join us Saturday May 2nd as we welcome Sci-Fi Author of the book\, “Warship”\, Joshua Dalzelle and since it’s so close to “Star Wars Day (May the 4th)”\, we’ll be throwing a super fun Sci-Fi Day Celebration! \nCome dressed up as your favorite Sci-Fi character for a chance to win a “Best Costume” trophy! \nPre-Order your copy of “Warship” Today and get it Signed at the Event:\nhttps://thecozybooknookdayton.square.site/product/warship-black-fleet-saga-book-1-hardcover/KXN4MGDRHV52DXBQKFODMMVO \nAbout the Author:\nJoshua Dalzelle is the author of the bestselling Omega Force Series and Black Fleet Saga. He has worked in aerospace and aviation for the majority of his non-writing career including ten years combined in the U.S. Air Force. He attended graduate school at Embry-Riddle Aeronautical University\, majoring in aeronautical science and specializing in space studies. After the release of Omega Rising in 2013\, Joshua pursued a fulltime writing career and has since published thirty-three sci-fi novels across three series. Joshua currently lives in a quiet suburb outside Cincinnati with his wife and son. \nAbout the Book:\nFrom USA TODAY bestselling author Joshua Dalzelle\, comes WARSHIP\, science fiction with an all-new vision of humanity’s future. \nIn the 25th century humans have conquered space. The advent of faster-than-light travel has opened up hundreds of habitable planets for colonization\, and humans have exploited the virtually limitless space and resources for hundreds of years with impunity. \nSo complacent has humanity become with the overabundance that armed conflict is a thing of the past\, and their machines of war are obsolete and decrepit. \nWhat would happen if humans were suddenly threatened by a terrifying new enemy? Would humanity fold and surrender\, or would they return to their evolutionary roots and meet force with force? \nOne ship—and one captain—will soon be faced with this very choice. Against incredible odds\, Jackson Wolfe is determined to save humanity–and in the process\, might end up saving himself. \n2015 Goodreads Choice Award Nominee for Best Science Fiction \nFrom USA Today Bestselling author Joshua Dalzelle\, author of the bestselling Omega Force series! \nThe Expanse meets Old Man’s War\nFor fans of: The Expanse\, Battlestar Galactica\, Honor Harrington\, Starship Troopers\, Old Man’s War (John Scalzi)\, The Forever War (Joe Haldeman)\, The Lost Fleet (Jack Campbell)\, Terms of Enlistment (Marko Kloos)
URL:https://thecozybooknook.com/event/sci-fi-day-with-joshua-dalzelle/
LOCATION:The Cozy Book Nook\, 1400 East 3rd St.\, Dayton\, OH\, 45403\, United States
ATTACH;FMTTYPE=image/png:https://thecozybooknook.com/wp-content/uploads/2026/03/Event-Banner.png
END:VEVENT
BEGIN:VEVENT
DTSTART;TZID=America/New_York:20260511T220000
DTEND;TZID=America/New_York:20260512T020000
DTSTAMP:20260420T074541
CREATED:20260319T162249Z
LAST-MODIFIED:20260319T162249Z
UID:5912-1778536800-1778551200@thecozybooknook.com
SUMMARY:Parade of Horribles by Matt Dinniman Midnight Release Party
DESCRIPTION:Welcome Crawlers!!!!!!! \nIt’s finally time to continue our journey with Dungeon Crawler Carl of course our favorite Princess Donut! \nWe are hosting a midnight release party to celebrate! Doors will open at 10am. We will have some DCC trivia\, and some light refreshments. We may plan some other fun things as well so stay tuned. We will hand the books out at midnight and you can either leave with your prize or stay and read until 2am. \nPlease use this link to preorder before 4/15/26 so we can be sure to have enough books for all you crawlers. \nhttps://thecozybooknookdayton.square.site/product/preorder-a-parade-of-horribles-dungeon-crawler-carl-book-8-of-8-dungeon-crawler-carl-by-matt-dinniman/IHDLBS73PWB2VTDL4ZWEVQFQ?cp=true&sa=false&sbp=false&q=false&category_id=EVPJ7KDW3SH75K3FG3XBB5DA
URL:https://thecozybooknook.com/event/parade-of-horribles-by-matt-dinniman-midnight-release-party/
LOCATION:The Cozy Book Nook\, 1400 East 3rd St.\, Dayton\, OH\, 45403\, United States
ATTACH;FMTTYPE=image/png:https://thecozybooknook.com/wp-content/uploads/2026/03/Dungeon-Crawler-Book-8-Release-Party.png
END:VEVENT
BEGIN:VEVENT
DTSTART;TZID=America/New_York:20261026T220000
DTEND;TZID=America/New_York:20261027T023000
DTSTAMP:20260420T074541
CREATED:20260319T162645Z
LAST-MODIFIED:20260319T162645Z
UID:5915-1793052000-1793068200@thecozybooknook.com
SUMMARY:ACOTAR 6 Midnight Release Party!
DESCRIPTION:It’s time to return to Prythian and get your hands on the next installment in the ACOTAR series. \n  \nFor entry to our midnight release party\, you must pre-order your book through The Cozy Book Nook either in store or at this link https://thecozybooknookdayton.square.site/product/preorder-a-court-of-thorns-and-roses-book-6/OGAJEWFKDL5KALQWJHVZASRA?cp=true&sa=false&sbp=false&q=false&category_id=EVPJ7KDW3SH75K3FG3XBB5DA \nDeadline to preorder is 9/1/26 to ensure we can get the books in on time. \nEvent will include refreshments and some ACOTAR activities. More details to come.
URL:https://thecozybooknook.com/event/acotar-6-midnight-release-party/
LOCATION:The Cozy Book Nook\, 1400 East 3rd St.\, Dayton\, OH\, 45403\, United States
ATTACH;FMTTYPE=image/png:https://thecozybooknook.com/wp-content/uploads/2026/03/ACOTAR-6-Midnight-Release-Party.png
END:VEVENT
END:VCALENDAR