BEGIN:VCALENDAR
VERSION:2.0
PRODID:-// - ECPv6.15.20//NONSGML v1.0//EN
CALSCALE:GREGORIAN
METHOD:PUBLISH
X-ORIGINAL-URL:https://thecozybooknook.com
X-WR-CALDESC:Events for 
REFRESH-INTERVAL;VALUE=DURATION:PT1H
X-Robots-Tag:noindex
X-PUBLISHED-TTL:PT1H
BEGIN:VTIMEZONE
TZID:America/New_York
BEGIN:DAYLIGHT
TZOFFSETFROM:-0500
TZOFFSETTO:-0400
TZNAME:EDT
DTSTART:20250309T070000
END:DAYLIGHT
BEGIN:STANDARD
TZOFFSETFROM:-0400
TZOFFSETTO:-0500
TZNAME:EST
DTSTART:20251102T060000
END:STANDARD
BEGIN:DAYLIGHT
TZOFFSETFROM:-0500
TZOFFSETTO:-0400
TZNAME:EDT
DTSTART:20260308T070000
END:DAYLIGHT
BEGIN:STANDARD
TZOFFSETFROM:-0400
TZOFFSETTO:-0500
TZNAME:EST
DTSTART:20261101T060000
END:STANDARD
BEGIN:DAYLIGHT
TZOFFSETFROM:-0500
TZOFFSETTO:-0400
TZNAME:EDT
DTSTART:20270314T070000
END:DAYLIGHT
BEGIN:STANDARD
TZOFFSETFROM:-0400
TZOFFSETTO:-0500
TZNAME:EST
DTSTART:20271107T060000
END:STANDARD
END:VTIMEZONE
BEGIN:VEVENT
DTSTART;TZID=America/New_York:20260311T180000
DTEND;TZID=America/New_York:20260311T200000
DTSTAMP:20260420T041622
CREATED:20260222T200248Z
LAST-MODIFIED:20260222T200336Z
UID:5863-1773252000-1773259200@thecozybooknook.com
SUMMARY:March Beer Crawl Book Club!
DESCRIPTION:Join us Wednesday March 11\, 2026 6pm-8pm at Warped Wing in Downtown Dayton as we discuss “Midnight in the Garden of Good and Evil” by John Berendt and get another stamp in our Dayton Ale Trail Passports!\n\nGet Your Copy Today and Join Us to Share Your Thoughts with Us!https://thecozybooknookdayton.square.site/…/PZ7ZDNQ7CL3…\n\nMidnight in the Garden of Good and Evil: A Savannah Story\nTHE LANDMARK NEW YORK TIMES BESTSELLER\, NOW A MAJOR MUSICAL COMING SOON TO BROADWAY • An enormously engaging portrait of a most beguiling Southern city: “Elegant and wicked…. [This] might be the first true-crime book that makes the reader want to book a bed and breakfast for an extended weekend at the scene of the crime.” —The New York Times Book Review • 30th Anniversary Edition with a New Afterword by the Author.\nShots rang out in Savannah’s grandest mansion in the misty\, early morning hours of May 2\, 1981. Was it murder or self-defense? For nearly a decade\, the shooting and its aftermath reverberated throughout this hauntingly beautiful city of moss-hung oaks and shaded squares. John Berendt’s sharply observed\, suspenseful\, and witty narrative reads like a thoroughly engrossing novel\, and yet it is a work of nonfiction. Berendt skillfully interweaves a hugely entertaining first-person account of life in this isolated remnant of the Old South with the unpredictable twists and turns of a landmark murder case.\nIt is a spellbinding story peopled by a gallery of remarkable characters: the well-bred society ladies of the Married Woman’s Card Club; the turbulent young redneck gigolo; the hapless recluse who owns a bottle of poison so powerful it could kill every man\, woman\, and child in Savannah; the aging and profane Southern belle who is the “soul of pampered self-absorption”; the uproariously funny black drag queen; the acerbic and arrogant antiques dealer; the sweet-talking\, piano-playing con artist; young blacks dancing the minuet at the black debutante ball; and Minerva\, the voodoo priestess who works her magic in the graveyard at midnight. These and other Savannahians act as a Greek chorus\, with Berendt revealing the alliances\, hostilities\, and intrigues that thrive in a town where everyone knows everyone else.\nMidnight in the Garden of Good and Evil is a sublime and seductive reading experience. Brilliantly conceived and masterfully written\, this true-crime book has become a modern classic.
URL:https://thecozybooknook.com/event/march-beer-crawl-book-club/
LOCATION:OH
ATTACH;FMTTYPE=image/png:https://thecozybooknook.com/wp-content/uploads/2026/02/2026-3-March-Banner.png
END:VEVENT
END:VCALENDAR