BEGIN:VCALENDAR
VERSION:2.0
PRODID:-// - ECPv6.15.20//NONSGML v1.0//EN
CALSCALE:GREGORIAN
METHOD:PUBLISH
X-ORIGINAL-URL:https://thecozybooknook.com
X-WR-CALDESC:Events for 
REFRESH-INTERVAL;VALUE=DURATION:PT1H
X-Robots-Tag:noindex
X-PUBLISHED-TTL:PT1H
BEGIN:VTIMEZONE
TZID:America/New_York
BEGIN:DAYLIGHT
TZOFFSETFROM:-0500
TZOFFSETTO:-0400
TZNAME:EDT
DTSTART:20250309T070000
END:DAYLIGHT
BEGIN:STANDARD
TZOFFSETFROM:-0400
TZOFFSETTO:-0500
TZNAME:EST
DTSTART:20251102T060000
END:STANDARD
BEGIN:DAYLIGHT
TZOFFSETFROM:-0500
TZOFFSETTO:-0400
TZNAME:EDT
DTSTART:20260308T070000
END:DAYLIGHT
BEGIN:STANDARD
TZOFFSETFROM:-0400
TZOFFSETTO:-0500
TZNAME:EST
DTSTART:20261101T060000
END:STANDARD
BEGIN:DAYLIGHT
TZOFFSETFROM:-0500
TZOFFSETTO:-0400
TZNAME:EDT
DTSTART:20270314T070000
END:DAYLIGHT
BEGIN:STANDARD
TZOFFSETFROM:-0400
TZOFFSETTO:-0500
TZNAME:EST
DTSTART:20271107T060000
END:STANDARD
END:VTIMEZONE
BEGIN:VEVENT
DTSTART;TZID=America/New_York:20260306T180000
DTEND;TZID=America/New_York:20260306T200000
DTSTAMP:20260420T081834
CREATED:20260209T001810Z
LAST-MODIFIED:20260209T001810Z
UID:5841-1772820000-1772827200@thecozybooknook.com
SUMMARY:March Traditional Book Club- Anxious People by Fredrik Backman
DESCRIPTION:Join us Friday March 2\, 2026 as we discuss “Anxious People” by Fredrik Backman! \nGet your copy now and join the conversation!\nhttps://thecozybooknookdayton.square.site/shop/march-2026-traditional-book-club/D2GBX2MU3XVQPNCHM7O5YNAI \nAn instant #1 New York Times bestseller\, the new novel from the author of A Man Called Ove is a “quirky\, big-hearted novel….Wry\, wise\, and often laugh-out-loud funny\, it’s a wholly original story that delivers pure pleasure” (People). \nLooking at real estate isn’t usually a life-or-death situation\, but an apartment open house becomes just that when a failed bank robber bursts in and takes a group of strangers hostage. The captives include a recently retired couple who relentlessly hunt down fixer-uppers to avoid the painful truth that they can’t fix their own marriage. There’s a wealthy bank director who has been too busy to care about anyone else and a young couple who are about to have their first child but can’t seem to agree on anything. Add to the mix an eighty-seven-year-old woman who has lived long enough not to be afraid of someone waving a gun in her face\, a flustered but still-ready-to-make-a-deal real estate agent\, and a mystery man who has locked himself in the apartment’s only bathroom\, and you’ve got the worst group of hostages in the world. \nEach of them carries a lifetime of grievances\, hurts\, secrets\, and passions that are ready to boil over. None of them is entirely who they appear to be. And all of them—the bank robber included—desperately crave some sort of rescue. As the authorities and the media surround the premises\, these reluctant allies will reveal surprising truths about themselves and set in motion a chain of events so unexpected that even they can hardly explain what happens next. \nProving once again that Backman is “a master of writing delightful\, insightful\, soulful\, character-driven narratives” (USA TODAY)\, Anxious People “captures the messy essence of being human….It’s clever and affecting\, as likely to make you laugh out loud as it is to make you cry” (The Washington Post). This “endlessly entertaining mood-booster” (Real Simple) is proof that the enduring power of friendship\, forgiveness\, and hope can save us—even in the most anxious of times.
URL:https://thecozybooknook.com/event/march-traditional-book-club-anxious-people-by-fredrik-backman/
LOCATION:The Cozy Book Nook\, 1400 East 3rd St.\, Dayton\, OH\, 45403\, United States
ATTACH;FMTTYPE=image/png:https://thecozybooknook.com/wp-content/uploads/2026/02/03-March-Book-Club-1.png
END:VEVENT
END:VCALENDAR