BEGIN:VCALENDAR
VERSION:2.0
PRODID:-// - ECPv6.15.20//NONSGML v1.0//EN
CALSCALE:GREGORIAN
METHOD:PUBLISH
X-ORIGINAL-URL:https://thecozybooknook.com
X-WR-CALDESC:Events for 
REFRESH-INTERVAL;VALUE=DURATION:PT1H
X-Robots-Tag:noindex
X-PUBLISHED-TTL:PT1H
BEGIN:VTIMEZONE
TZID:America/New_York
BEGIN:DAYLIGHT
TZOFFSETFROM:-0500
TZOFFSETTO:-0400
TZNAME:EDT
DTSTART:20250309T070000
END:DAYLIGHT
BEGIN:STANDARD
TZOFFSETFROM:-0400
TZOFFSETTO:-0500
TZNAME:EST
DTSTART:20251102T060000
END:STANDARD
BEGIN:DAYLIGHT
TZOFFSETFROM:-0500
TZOFFSETTO:-0400
TZNAME:EDT
DTSTART:20260308T070000
END:DAYLIGHT
BEGIN:STANDARD
TZOFFSETFROM:-0400
TZOFFSETTO:-0500
TZNAME:EST
DTSTART:20261101T060000
END:STANDARD
BEGIN:DAYLIGHT
TZOFFSETFROM:-0500
TZOFFSETTO:-0400
TZNAME:EDT
DTSTART:20270314T070000
END:DAYLIGHT
BEGIN:STANDARD
TZOFFSETFROM:-0400
TZOFFSETTO:-0500
TZNAME:EST
DTSTART:20271107T060000
END:STANDARD
END:VTIMEZONE
BEGIN:VEVENT
DTSTART;TZID=America/New_York:20260214T120000
DTEND;TZID=America/New_York:20260214T130000
DTSTAMP:20260420T051508
CREATED:20260126T035930Z
LAST-MODIFIED:20260126T035930Z
UID:5790-1771070400-1771074000@thecozybooknook.com
SUMMARY:Speed Dating with Romance Books!
DESCRIPTION:Speed Date around the room as each author has just a few minutes to pitch you their books!\nLooking for your next Romance Books? We’ve got you covered!\n\nSpeed Date around the room as each author has just a few minutes to pitch you their books! Pick the ones you’d like to take home with you\, and get them autographed by the authors themselves!\n\nReserve your spot by claiming the Free Ticket and receive a treat from each author! You’ll also be entered into a drawing for a Free Gift Bag from us!!\n\nGroup 1 (12:30pm-1:00pm)(9 spots available):https://www.eventbrite.com/e/1979886967216?aff=oddtdtcreator\nGroup 2 (1:00pm-1:30pm)(1 spots left):https://www.eventbrite.com/e/1979888197897?aff=oddtdtcreator
URL:https://thecozybooknook.com/event/speed-dating-with-romance-books-2/
LOCATION:The Cozy Book Nook\, 1400 East 3rd St.\, Dayton\, OH\, 45403\, United States
ATTACH;FMTTYPE=image/png:https://thecozybooknook.com/wp-content/uploads/2026/01/Speed-Dating-2026_Banner.png
END:VEVENT
END:VCALENDAR