BEGIN:VCALENDAR
VERSION:2.0
PRODID:-// - ECPv6.15.20//NONSGML v1.0//EN
CALSCALE:GREGORIAN
METHOD:PUBLISH
X-ORIGINAL-URL:https://thecozybooknook.com
X-WR-CALDESC:Events for 
REFRESH-INTERVAL;VALUE=DURATION:PT1H
X-Robots-Tag:noindex
X-PUBLISHED-TTL:PT1H
BEGIN:VTIMEZONE
TZID:America/New_York
BEGIN:DAYLIGHT
TZOFFSETFROM:-0500
TZOFFSETTO:-0400
TZNAME:EDT
DTSTART:20250309T070000
END:DAYLIGHT
BEGIN:STANDARD
TZOFFSETFROM:-0400
TZOFFSETTO:-0500
TZNAME:EST
DTSTART:20251102T060000
END:STANDARD
BEGIN:DAYLIGHT
TZOFFSETFROM:-0500
TZOFFSETTO:-0400
TZNAME:EDT
DTSTART:20260308T070000
END:DAYLIGHT
BEGIN:STANDARD
TZOFFSETFROM:-0400
TZOFFSETTO:-0500
TZNAME:EST
DTSTART:20261101T060000
END:STANDARD
BEGIN:DAYLIGHT
TZOFFSETFROM:-0500
TZOFFSETTO:-0400
TZNAME:EDT
DTSTART:20270314T070000
END:DAYLIGHT
BEGIN:STANDARD
TZOFFSETFROM:-0400
TZOFFSETTO:-0500
TZNAME:EST
DTSTART:20271107T060000
END:STANDARD
END:VTIMEZONE
BEGIN:VEVENT
DTSTART;TZID=America/New_York:20260207T120000
DTEND;TZID=America/New_York:20260207T160000
DTSTAMP:20260420T051500
CREATED:20260104T013350Z
LAST-MODIFIED:20260104T013350Z
UID:5715-1770465600-1770480000@thecozybooknook.com
SUMMARY:Galentine's Book Bedazzling Brunch!
DESCRIPTION:Get ready to brunch\, bedazzle\, and bond with your besties at the Galantines Book Bedazzle Brunch—where books and bling collide!\nWelcome to the Galentine’s Book Bedazzle Brunch at The Cozy Book Nook! Join us on February 7\, 2026 for a delightful gathering of book lovers. Let’s celebrate friendship\, books\, and creativity together. Bring your favorite book to bedazzle and share with your gal pals! Or pick up a book in store before the event starts. Don’t miss out on the fun and laughter. See you there!\n\nWe will have 2 groups one at 12:00pm one at 2:30pm\nCharcuterie and one mimosa per participant will be provided. \nGet your tickets here:Group 1 12pm https://www.eventbrite.com/…/galentines-book-bedazzle…\nGroup 2 2:30pm https://www.eventbrite.com/…/galentines-book-bedazzle…
URL:https://thecozybooknook.com/event/galentines-book-bedazzling-brunch/
LOCATION:The Cozy Book Nook\, 1400 East 3rd St.\, Dayton\, OH\, 45403\, United States
ATTACH;FMTTYPE=image/png:https://thecozybooknook.com/wp-content/uploads/2026/01/Galentines.png
END:VEVENT
END:VCALENDAR