BEGIN:VCALENDAR
VERSION:2.0
PRODID:-// - ECPv6.15.20//NONSGML v1.0//EN
CALSCALE:GREGORIAN
METHOD:PUBLISH
X-ORIGINAL-URL:https://thecozybooknook.com
X-WR-CALDESC:Events for 
REFRESH-INTERVAL;VALUE=DURATION:PT1H
X-Robots-Tag:noindex
X-PUBLISHED-TTL:PT1H
BEGIN:VTIMEZONE
TZID:America/New_York
BEGIN:DAYLIGHT
TZOFFSETFROM:-0500
TZOFFSETTO:-0400
TZNAME:EDT
DTSTART:20250309T070000
END:DAYLIGHT
BEGIN:STANDARD
TZOFFSETFROM:-0400
TZOFFSETTO:-0500
TZNAME:EST
DTSTART:20251102T060000
END:STANDARD
BEGIN:DAYLIGHT
TZOFFSETFROM:-0500
TZOFFSETTO:-0400
TZNAME:EDT
DTSTART:20260308T070000
END:DAYLIGHT
BEGIN:STANDARD
TZOFFSETFROM:-0400
TZOFFSETTO:-0500
TZNAME:EST
DTSTART:20261101T060000
END:STANDARD
BEGIN:DAYLIGHT
TZOFFSETFROM:-0500
TZOFFSETTO:-0400
TZNAME:EDT
DTSTART:20270314T070000
END:DAYLIGHT
BEGIN:STANDARD
TZOFFSETFROM:-0400
TZOFFSETTO:-0500
TZNAME:EST
DTSTART:20271107T060000
END:STANDARD
END:VTIMEZONE
BEGIN:VEVENT
DTSTART;TZID=America/New_York:20260206T180000
DTEND;TZID=America/New_York:20260206T200000
DTSTAMP:20260420T051443
CREATED:20260108T162052Z
LAST-MODIFIED:20260108T162052Z
UID:5757-1770400800-1770408000@thecozybooknook.com
SUMMARY:February Traditional Book Club
DESCRIPTION:Join us Friday February 6\, 2026 as we discuss “I\, Medusa” by Ayana Gray!\n\nGet Your Copy Today and Join the Conversation!https://thecozybooknookdayton.square.site/…/FG333VYNZKD…\n\nNEW YORK TIMES BESTSELLER • From New York Times bestselling author Ayana Gray comes a “captivating villain origin story” (People Book of the Week)\, reimagining one of the most iconic monsters in Greek mythology as a provocative and powerful young heroine.\n\nThe first edition hardcover features stunning sprayed edges\, a premium dust jacket with foil\, and a gorgeous custom-stamped case—while supplies last!\n\n“Ayana Gray brings her fresh\, dynamic storytelling to one of the most monstered\, maligned\, and misunderstood women of Greek myth\, imagining all the girls that Medusa was and could have been.”—Jennifer Saint\, bestselling author of Ariadne\n\nAN NPR BEST BOOK OF THE YEAR\n\nMeddy has spent her whole life as a footnote in someone else’s story. Out of place next to her beautiful\, immortal sisters and her parents—both gods\, albeit minor ones—she dreams of leaving her family’s island for a life of adventure. So when she catches the eye of the goddess Athena\, who invites her to train as an esteemed priestess in her temple\, Meddy leaps at the chance to see the world beyond her home.\n\nIn the colorful market streets of Athens and the clandestine chambers of the temple\, Meddy flourishes in her role as Athena’s favored acolyte\, getting her first tastes of purpose and power. But when she is noticed by another Olympian\, Poseidon\, the course of Meddy’s promising future is suddenly and irrevocably altered.\n\nWhen her locs are transformed into snakes as punishment for a crime she did not commit\, Medusa must embrace a new identity—not as a victim\, but as a vigilante—and with it\, the chance to write her own story as mortal\, martyr\, and myth.\n\nExploding with rage\, heartbreak\, and love\, I\, Medusa portrays a young woman caught in the crosscurrents between her heart’s deepest desires and the cruel\, careless games the Olympian gods play.
URL:https://thecozybooknook.com/event/february-traditional-book-club/
LOCATION:The Cozy Book Nook\, 1400 East 3rd St.\, Dayton\, OH\, 45403\, United States
ATTACH;FMTTYPE=image/png:https://thecozybooknook.com/wp-content/uploads/2026/01/02-February-Book-Club.png
END:VEVENT
END:VCALENDAR